BEGIN:VCALENDAR
VERSION:2.0
CALSCALE:GREGORIAN
PRODID:-//MyApp//Calendar 1.0//EN
BEGIN:VEVENT
METHOD:PUBLISH
UID:31938@regionalniportaly.cz
DTSTAMP:20260422T010909Z
DTSTART;VALUE=DATE:20230603
DTEND;VALUE=DATE:20230604
SUMMARY:Wostrowfest vol. 3
DESCRIPTION:Srdečně zveme na WOSTROWFEST vol. 3!! POZOR ZMĚNA!! Blaze Bayley ze zdravotních důvodů nepřiletí\, evropské turné je zrušeno\, ale máme obratem novou akvizici! V pozici headlinera festivalu se představí ARAKAIN!! Doprovodí ho stylově rozmanití Poletíme a také zpěvák s nezaměnitelným charisma Miro Šmajda se svojí novou kapelou Terrapie. Trochu punkového stylu přinesou kapely The Fialky\, The Desperate Mind\, Liquid Jesus. Porce kvalitní hudby je pro vás připravena\, takže vás rádi uvidíme na Wostrowfestu.
LOCATION:Ostrov u Macochy
END:VEVENT
END:VCALENDAR