BEGIN:VCALENDAR
VERSION:2.0
CALSCALE:GREGORIAN
PRODID:-//MyApp//Calendar 1.0//EN
BEGIN:VEVENT
METHOD:PUBLISH
UID:34165@regionalniportaly.cz
DTSTAMP:20260422T203700Z
DTSTART;VALUE=DATE:20230916
DTEND;VALUE=DATE:20230917
SUMMARY:Štěpán Rak v Býčí skále
DESCRIPTION:Kytarový recitál Štěpána Raka s hudbou inspirovanou tajemstvím Býčí skály. &nbsp\;&nbsp\;Štěpán Rak si ve světě vybudoval pověst nejen jako kytarový virtuos a hudební skladatel\, ale především jako mistr improvizace\, kterou také vyučuje na pražské HAMU. Své umění improvizace předvede posluchačům v jedinečném prostředí Halštatského dómu jeskyně Býčí skála\, jejíž tajemnou historií se nechal inspirovat. Zároveň vzpomene na svá vystoupení nejen v jeskyních u nás\, ale i na mimořádných lokalitách ve světě\, k nimž patřil například slavný australský útvar Uluru. &nbsp\;&nbsp\;&nbsp\;
LOCATION:Adamov
END:VEVENT
END:VCALENDAR