BEGIN:VCALENDAR
VERSION:2.0
CALSCALE:GREGORIAN
PRODID:-//MyApp//Calendar 1.0//EN
BEGIN:VEVENT
METHOD:PUBLISH
UID:49294@regionalniportaly.cz
DTSTAMP:20260422T175628Z
DTSTART;VALUE=DATE:20250201
DTEND;VALUE=DATE:20250202
SUMMARY:Hospodský taneček
DESCRIPTION:Taněček se bude odehrávat v duchu 70\,80\,90\, hraje DJ MILADA.Můžete se těšit na TOMBOLU A &nbsp\;PIVNÍ SOUTĚŽE.Zavzpomínáme&nbsp\; si na&nbsp\;&nbsp\;staré a dobré časy.
LOCATION:Lažany
END:VEVENT
END:VCALENDAR