BEGIN:VCALENDAR
VERSION:2.0
CALSCALE:GREGORIAN
PRODID:-//MyApp//Calendar 1.0//EN
BEGIN:VEVENT
METHOD:PUBLISH
UID:53434@regionalniportaly.cz
DTSTAMP:20260422T131226Z
DTSTART;VALUE=DATE:20250523
DTEND;VALUE=DATE:20250525
SUMMARY:Fitness víkend ČERNÁ HORA
DESCRIPTION:23.-25.5.2025\nNáš oblíbený fitness víkend se spoustou jógy\, cvičení\, dobrého jídla\, welnessa dalšího programu je tady !\n \nPřidejte se k nám a užijte si parádní aktivní dovolenou.\n \nPROGRAM\nTento víkend bude speciální – čeká vás daleko více lekcí !Těšit se můžete na cvičení od pátečního odpoledne až do nedělního odpoledne od dvou lektorek.Vyzkoušíte si lekci Zdravá záda\, Intervalový trénink\, Čakra jóga\, Posilování problémových partií\, Funknčí chodidlo\, Pánevní dno\, Pilates\, Power jógu\, Antistresovou relaxaci a mnohé další.POZOR: tentokrát budeme končit až v neděli odpoledne\n \nUBYTOVÁNÍ A STRAVA ****\nUbytovaní budeme ve čtyřhvězdičkovém hotelu Sladovna v Černé hoře. Pokoje máme v luxusnější části\, kde jsou pouze dvoulůžkové pokoje. \nV ceně je vyhlášená plná penze od páteční večeře do nedělní snídaně.\n \nBONUSOVÝ PROGRAM\nV rámci pobytu máte po celou dobu NEOMEZENÝ VSTUP do welness a saunového světa.\n \n* Víkend má omezenou kapacitu\, pokud by byl vyprodán\, doporučuji rezervaci na některý z následujícíh víkendů v nabídce
LOCATION:Černá Hora
END:VEVENT
END:VCALENDAR