BEGIN:VCALENDAR
VERSION:2.0
CALSCALE:GREGORIAN
PRODID:-//MyApp//Calendar 1.0//EN
BEGIN:VEVENT
METHOD:PUBLISH
UID:58564@regionalniportaly.cz
DTSTAMP:20260420T172607Z
DTSTART;VALUE=DATE:20251011
DTEND;VALUE=DATE:20251012
SUMMARY:Skrytá krása kamenů
DESCRIPTION:Pojďme spolu odhalit příběh vápence z Moravského krasu. Vytvoříme si unikátní exponát z kamene\, který si každý sám pod odborným vedením najde\, po rozříznutí naleští a odnese domů.\nProgram bude probíhat pro zájemce o hledání skryté krásy kamenů 11. 10. 2025 od 9 hodin do 15 hodin. Sejdeme se na předem dohodnuté lokalitě\, kde si každý najde pod odborným vedením geologa Ing. Jiřího Šafaříka CSc.\, svůj kámen (vápenec).\nNásledně se přesuneme do Domu přírody Moravského krasu\, kde si vápenec zpracujeme do podoby sbírkového kamene. Navštívíme také interaktivní expozici\, kde se dozvíme\, jak vápence\, jeskyně i další krasové jevy vznikaly. \nCena programu obsahuje: odborné vedení\, pomůcky a materiál na zpracování kamene\, vstup do expozice Domu přírody\, vlastní zpracovaný vzorek vápence s podstavečkem a informací o něm.\nDospělý: 500 KčDítě\, senior\, student: 400 Kč\nDopravu v rámci programu si účastníci zajišťují sami. Přibližný počet účastníků ve skupině je 20 osob. Upozorňujeme\, že parkoviště kolem Domu přírody jsou zpoplatněny jinou společností\, která vybírá 100 Kč za osobní auto.
LOCATION:Blansko
END:VEVENT
END:VCALENDAR