BEGIN:VCALENDAR
VERSION:2.0
CALSCALE:GREGORIAN
PRODID:-//MyApp//Calendar 1.0//EN
BEGIN:VEVENT
METHOD:PUBLISH
UID:58696@regionalniportaly.cz
DTSTAMP:20260422T010919Z
DTSTART;VALUE=DATE:20260204
DTEND;VALUE=DATE:20260205
SUMMARY:Cena za něžnost
DESCRIPTION:Simona Stašová si vždy vybírá komedie\, které&nbsp\;mají nejen humor\, ale i&nbsp\;hloubku.&nbsp\;Tentokrát si vybrala&nbsp\;jednu z&nbsp\;těch opravdu parádních:&nbsp\;americkou romantickou a&nbsp\;křehkou hru&nbsp\;„Cena za něžnost".&nbsp\;Jak je důležité neztratit v&nbsp\;životě humor a&nbsp\;lásku i&nbsp\;v těch nejtěžších chvílích\, které člověka potkají. Velmi vtipný\, dojemný a&nbsp\;silný příběh o&nbsp\;lásce\, který zachycuje křehká a&nbsp\;někdy nalomená pouta mezi matkami a&nbsp\;dcerami\, manžely a&nbsp\;manželkami\, starými a&nbsp\;novými milenci…Hrají: Simona Stašová\, Kamila Trnková\, Miroslav Etzler\, Jessica Bechyňová\, Otakar Brousek ml.\, Jan Teplý ml.Režie: Vladimír StrniskoAutor: Dan GordonDélka představení 160 minut (včetně přestávky)
LOCATION:Blansko
END:VEVENT
END:VCALENDAR