BEGIN:VCALENDAR
VERSION:2.0
CALSCALE:GREGORIAN
PRODID:-//MyApp//Calendar 1.0//EN
BEGIN:VEVENT
METHOD:PUBLISH
UID:59179@regionalniportaly.cz
DTSTAMP:20260422T060508Z
DTSTART;VALUE=DATE:20260224
DTEND;VALUE=DATE:20260225
SUMMARY:Lavička
DESCRIPTION:Komedie skotského stand-up komika plná nečekaných zvratů\, intrik a&nbsp\;břitkého humoru. Nepříliš pozitivně naladěný senior vyruší z&nbsp\;rozjímání muže středního věku\, který chce mít chvilku pro sebe. A&nbsp\;rozhoří se konflikt přímo epických rozměrů...Hrají: Miroslav Hanuš\, Petr Stach&nbsp\;Překlad: Barbora HaplováDramaturgie: Pavel OndruchVýprava: Dana HávováRežie: Vít VenclČeská premiéra na Letní scéně 24.&nbsp\;května 2025.&nbsp\;Obvyklá délka představení 1 hodina a&nbsp\;50 minut včetně přestávky.&nbsp\;
LOCATION:Blansko
END:VEVENT
END:VCALENDAR