BEGIN:VCALENDAR
VERSION:2.0
CALSCALE:GREGORIAN
PRODID:-//MyApp//Calendar 1.0//EN
BEGIN:VEVENT
METHOD:PUBLISH
UID:59308@regionalniportaly.cz
DTSTAMP:20260422T010728Z
DTSTART;VALUE=DATE:20260207
DTEND;VALUE=DATE:20260208
SUMMARY:Taneční večer k 50 letům TŠ manželů Míšenských
DESCRIPTION:TANEČNÍ VEČER K&nbsp\;50 LETŮM TANEČNÍ ŠKOLY MANŽELŮ MÍŠENSKÝCH&nbsp\;Sobota 7.&nbsp\;února 2026Od 19:30 hodin (do 02:00 hod.)Dělnický dům BlanskoPřijďte s&nbsp\;námi oslavit půlstoletí taneční tradice!Čeká vás večer plný pohybu\, hudby a&nbsp\;skvělé atmosféry.Zatančíte si všechny taneční styly\, které jste se v&nbsp\;tanečních naučili – od standardních po latinskoamerické – a nebude chybět ani diskotéka.O&nbsp\;hudbu se postarají DJ BOREK a&nbsp\;DJ VACEK.Těšit se můžete také na taneční hosty s&nbsp\;ukázkami tanců.Zvou vaši učitelé tance Alena a&nbsp\;Jiří Míšenští ve&nbsp\;spolupráci s&nbsp\;Kulturním střediskem města Blanska.
LOCATION:Blansko
END:VEVENT
END:VCALENDAR