BEGIN:VCALENDAR
VERSION:2.0
CALSCALE:GREGORIAN
PRODID:-//MyApp//Calendar 1.0//EN
BEGIN:VEVENT
METHOD:PUBLISH
UID:59531@regionalniportaly.cz
DTSTAMP:20260422T010719Z
DTSTART;VALUE=DATE:20260314
DTEND;VALUE=DATE:20260315
SUMMARY:Anna K.
DESCRIPTION:ANNA K. vyráží na speciální koncertní turné s názvem „Vždycky se budeme znát“\, kterým oslaví 10 let od vydání své nejstreamovanější skladby. Tato píseň se stala symbolem blízkosti\, vzpomínek a vztahu s fanoušky\, který přetrvává.Časový harmonogram akce:19:00&nbsp\;&nbsp\; otevření sálu20:00&nbsp\;&nbsp\; začátek koncertu ANNA K.ANNA K. se stala během své kariéry vítězkou ankety&nbsp\;„Zpěvačka roku“
LOCATION:Blansko
END:VEVENT
END:VCALENDAR