BEGIN:VCALENDAR
VERSION:2.0
CALSCALE:GREGORIAN
PRODID:-//MyApp//Calendar 1.0//EN
BEGIN:VEVENT
METHOD:PUBLISH
UID:61197@regionalniportaly.cz
DTSTAMP:20260422T025954Z
DTSTART;VALUE=DATE:20260208
DTEND;VALUE=DATE:20260209
SUMMARY:Skrytá krása kamenů únor
DESCRIPTION:Pojďme spolu odhalit příběh vápence z&nbsp\;Moravského krasu. Vytvoříme si unikátní exponát z&nbsp\;kamene\, který si každý sám pod odborným vedením nabrousí\,&nbsp\;naleští a odnese domů.Program bude probíhat pro zájemce o hledání skryté krásy kamenů&nbsp\;8. 2. 2026&nbsp\;od 9&nbsp\;hodin do 12&nbsp\;hodin. Sejdeme se v Domě přírody Moravského krasu\, kde si vápenec vyberete z již nasbíraných. Tento vápenec si&nbsp\;zpracujeme do podoby sbírkového kamene. Navštívíme také interaktivní expozici\, kde se dozvíme\, jak vápence\, jeskyně i další krasové jevy vznikaly.&nbsp\;&nbsp\;
LOCATION:Blansko
END:VEVENT
END:VCALENDAR