BEGIN:VCALENDAR
VERSION:2.0
CALSCALE:GREGORIAN
PRODID:-//MyApp//Calendar 1.0//EN
BEGIN:VEVENT
METHOD:PUBLISH
UID:61987@regionalniportaly.cz
DTSTAMP:20260422T010739Z
DTSTART;VALUE=DATE:20260124
DTEND;VALUE=DATE:20260125
SUMMARY:Ani o den dýl! Divadelní komedie
DESCRIPTION:Divadelní komedie o milostných i přátelských vztazích\, lži\, přetvářce a jednom šíleném podvodu. Komický příběh je plný situačního a konverzačního humoru v podání Krásenských divadelních ochotníků. Vstupné 170 Kč\, předprodej v Hospůdce Na Točně na Těchově nebo přes SMS Ticket. Rezervace možná na tel. 724 266 931 nebo info@hospudkatechov.cz\n \nKulturní dům a Hospůdka Na Točně Těchov\nZačátek v 18.00\n 
LOCATION:Blansko
END:VEVENT
END:VCALENDAR