BEGIN:VCALENDAR
VERSION:2.0
CALSCALE:GREGORIAN
PRODID:-//MyApp//Calendar 1.0//EN
BEGIN:VEVENT
METHOD:PUBLISH
UID:61988@regionalniportaly.cz
DTSTAMP:20260422T010832Z
DTSTART;VALUE=DATE:20260128
DTEND;VALUE=DATE:20260128
SUMMARY:Kambodža - Milan DANY Daněk
DESCRIPTION:Cestovatelská přednáčka\nKulturní dům a Hospůdka Na Točně Těchov\n \nKambodža je zemí bohaté a často kruté historie\, chrámů i přírodních krás. Cílem cesty bylo zaznamenat život etnických menšin v odlehlé provincii Ratanakiri\, zastavíme se i v chrámovém komplexu Angkor Wat\, jezeře Tonle Sap\, metropoli Phompenh a písečných plážích ostrova Koh Rong. Mizející svět horských kmenů - Khmer Loeu je souhrnný název pro více než desítku kmenů\, které osídlují horské oblasti. Vše (obloha\, země\, les\, prameny a řeky\, hory\, kameny a rýžová pole) je osídleno množstvím duchovních sil. Věří\, že duchové mají moc ovlivňovat zdraví\, blahobyt a prosperitu. Vzbuzují respekt i strach.Zastavíme se i v chrámovém komplexu Angkor Wat\, jezeře Tonle Sap\, metropoli Phompenh a písečných plážích ostrova Koh Rong.Milan Danny Daněk - dobrodruh a dokumentarista\, ředitel festivalu RAJBAS\, vytrvale hledá dobrodružství v odlehlých končinách naší planety i v krajině blízkého okolí. Na mezinárodních outdoorových filmových festivalech získal několik ocenění. Publikuje články v geografických magazínech.Vstupné v předprodeji 130 Kč\, na místě 150 Kč. Předprodej v Hospůdce Na Točně na Těchově nebo přes SMS Ticket.
LOCATION:Blansko
END:VEVENT
END:VCALENDAR