BEGIN:VCALENDAR
VERSION:2.0
CALSCALE:GREGORIAN
PRODID:-//MyApp//Calendar 1.0//EN
BEGIN:VEVENT
METHOD:PUBLISH
UID:62479@regionalniportaly.cz
DTSTAMP:20260421T232013Z
DTSTART;VALUE=DATE:20260225
DTEND;VALUE=DATE:20260226
SUMMARY:Gruzie - Kuba Venglář - cestovatelská přednáška
DESCRIPTION:Cestovatelská přednáška - s nadhledem\, zajímavými postřehy a nádhernými fotkami. To jsou Kubovy přednášky\, proto si ho rádi zveme znovu.&nbsp\;Co se dá zažít\, vidět a&nbsp\;poznat během tří velkých cest do Gruzie? Sakra hodně a&nbsp\;půlku z&nbsp\;toho vám doma stejně nebudou chtít věřit.&nbsp\;Společně si projdeme několik nádherných horských treků\, vystoupáme na pětitisícovku a&nbsp\;zažijeme gruzínskou přírodu od léta do drsné zimy. Nebude to ale žádná tuctová kochačka\, nýbrž svérázná ochutnávka výprav po&nbsp\;netradičních trasách\, kde hory\, kolemjdoucí i&nbsp\;vlastní hloupost dokáží cestu pořádně opepřit.&nbsp\;Kromě horských dobrodružství nahlédneme pod pokličku života na Kavkaze\, seznámím vás s&nbsp\;těmi nejzajímavějšími lidmi\, které jsme potkali\, zasmějete se u&nbsp\;divokých historek\, prozkoumáme pár velkolepých (více či&nbsp\;méně historických) pamětihodností a&nbsp\;vůbec ochutnáme to nejlepší\, co Gruzie nabízí.&nbsp\;Přijďte se inspirovat pro vlastní cestu nebo „jen″ dobře pobavit \;)Promítáme na úhlopříčku 7 metrů.&nbsp\;Vstupné v&nbsp\;předprodeji 150 Kč\, na místě 180 Kč.&nbsp\;Rezervace na tel. 724 266 931 nebo na emailu&nbsp\;jana.skotak@seznam.cz\, předprodej v Hospůdce Na Točně na Těchově nebo přes SMS Ticket
LOCATION:Blansko
END:VEVENT
END:VCALENDAR