BEGIN:VCALENDAR
VERSION:2.0
CALSCALE:GREGORIAN
PRODID:-//MyApp//Calendar 1.0//EN
BEGIN:VEVENT
METHOD:PUBLISH
UID:62481@regionalniportaly.cz
DTSTAMP:20260421T232133Z
DTSTART;VALUE=DATE:20260307
DTEND;VALUE=DATE:20260308
SUMMARY:DVEŘE - divadelní komedie
DESCRIPTION:Divadlo voděradských ochotníků uvádí divadelní komedii Dveře.Vstupné 150 Kč. Rezervace na tel. 724 266 931\, předprodej v Hospůdce Na Točně na Těchově nebo přes SMS Ticket
LOCATION:Blansko
END:VEVENT
END:VCALENDAR