BEGIN:VCALENDAR
VERSION:2.0
CALSCALE:GREGORIAN
PRODID:-//MyApp//Calendar 1.0//EN
BEGIN:VEVENT
METHOD:PUBLISH
UID:63440@regionalniportaly.cz
DTSTAMP:20260421T232002Z
DTSTART;VALUE=DATE:20260225
DTEND;VALUE=DATE:20260226
SUMMARY:Kuba Venglář - Gruzie 3 x jinak
DESCRIPTION:Kuba Venglář - Gruzie - cestovatelská přednáška -  s nadhledem\, zajímavými postřehy a nádhernými fotkami. To jsou Kubovy přednášky\, proto si ho rádi zveme znovu. Co se dá zažít\, vidět a poznat během tří velkých cest do Gruzie? Sakra hodně a půlku z toho vám doma stejně nebudou chtít věřit.Společně si projdeme několik nádherných horských treků\, vystoupáme na pětitisícovku a zažijeme gruzínskou přírodu od léta do drsné zimy. Nebude to ale žádná tuctová kochačka\, nýbrž svérázná ochutnávka výprav po netradičních trasách\, kde hory\, kolemjdoucí i vlastní hloupost dokáží cestu pořádně opepřit.Kromě horských dobrodružství nahlédneme pod pokličku života na Kavkaze\, seznámím vás s těmi nejzajímavějšími lidmi\, které jsme potkali\, zasmějete se u divokých historek\, prozkoumáme pár velkolepých (více či méně historických) pamětihodností a vůbec ochutnáme to nejlepší\, co Gruzie nabízí.Přijďte se inspirovat pro vlastní cestu nebo „jen″ dobře pobavit  Promítáme na úhlopříčku 7 metrů.Vstupné v předprodeji 150 Kč\, na místě 180 Kč. Rezervace na tel. 724 266 931 nebo na emailu jana.skotak@seznam.cz\, předprodej v Hospůdce Na Točně na Těchově nebo přes SMS Ticket\n \nKulturní dům Těchov\, začátek v 18.00
LOCATION:Blansko
END:VEVENT
END:VCALENDAR