BEGIN:VCALENDAR
VERSION:2.0
CALSCALE:GREGORIAN
PRODID:-//MyApp//Calendar 1.0//EN
BEGIN:VEVENT
METHOD:PUBLISH
UID:63441@regionalniportaly.cz
DTSTAMP:20260422T010815Z
DTSTART;VALUE=DATE:20260307
DTEND;VALUE=DATE:20260308
SUMMARY:Divadelní komedie Dveře - Voděradští ochotníci
DESCRIPTION:Divadlo voděradských ochotníků uvádí divadelní komedii Dveře\, komedii ze života. Tedy vlastně\, z té podivné nicoty mezi životem a smrtí. Čeho se lidé nedokáží vzdát a na čem kdo lpí tak moc\, že by si to nejraději vzal i do hrobu? A jak to vlastně dopadlo? Ale pozor\, je to komedie!\nVstupné 150 Kč. Rezervace na tel. 724 266 931\, předprodej v Hospůdce Na Točně na Těchově nebo přes SMS Ticket\nKulturní dům Těchov\, začátek v 18.00
LOCATION:Blansko
END:VEVENT
END:VCALENDAR