BEGIN:VCALENDAR
VERSION:2.0
CALSCALE:GREGORIAN
PRODID:-//MyApp//Calendar 1.0//EN
BEGIN:VEVENT
METHOD:PUBLISH
UID:63824@regionalniportaly.cz
DTSTAMP:20260422T024540Z
DTSTART;VALUE=DATE:20260313
DTEND;VALUE=DATE:20260314
SUMMARY:10. Ples dobrovolných hasičů
DESCRIPTION:
LOCATION:Blansko
END:VEVENT
END:VCALENDAR