BEGIN:VCALENDAR
VERSION:2.0
CALSCALE:GREGORIAN
PRODID:-//MyApp//Calendar 1.0//EN
BEGIN:VEVENT
METHOD:PUBLISH
UID:65499@regionalniportaly.cz
DTSTAMP:20260420T210814Z
DTSTART;VALUE=DATE:20260620
DTEND;VALUE=DATE:20260621
SUMMARY:Zvláštním vlakem na GrandPrix 2026 Brno
DESCRIPTION:Chystáte se na Grand Prix 2026 do Brna? Vyhněte se stresu za volantem\, kolonám na D1 a hledání parkování. Využijte náš speciální vlak\, který vás o víkendu 20. a 21. června doveze z Prahy\, Pardubic a České Třebové pohodlně a bez starostí přímo k brněnskému Automotodromu.&nbsp\;Předpokládaný&nbsp\;jízdní řád:Sobota:Praha hl.n.&nbsp\;(5:55) -&nbsp\;Pardubice hl.n.&nbsp\;(6:52 - 6:54) -&nbsp\;Česká Třebová&nbsp\;(7:33 - 7:34) -&nbsp\;Brno dolní nádraží&nbsp\;(8:33)¨ -&nbsp\; přestup na návazný autobus -&gt\; AutomotodromBrno\, Automotodrom [BUS] (16:50) - Brno-dolní nádraží&nbsp\;(17:45 - 17:50) -&nbsp\;Česká Třebová&nbsp\;(18:50 - 18:51) -&nbsp\;Pardubice hl.n.&nbsp\;(19:29 - 19:30) -&nbsp\;Praha hl.n.&nbsp\;(20:27)Neděle:Praha hl.n.&nbsp\;(5:10) -&nbsp\;Pardubice hl.n.&nbsp\;(6:07 - 6:09) -&nbsp\;Česká Třebová&nbsp\;(6:48 - 6:49) -&nbsp\;Brno dolní nádraží&nbsp\;(7:48)&nbsp\;-&nbsp\;přestup na návazný autobus -&gt\; AutomotodromBrno\, Automotodrom [BUS] (16:00) - Brno-dolní nádraží&nbsp\;(16:50 - 17:05) -&nbsp\;Česká Třebová&nbsp\;(18:05 - 18:06) -&nbsp\;Pardubice hl.n.&nbsp\;(18:44 - 18:45) -&nbsp\;Praha hl.n.&nbsp\;(19:45)
LOCATION:Brno
END:VEVENT
END:VCALENDAR