BEGIN:VCALENDAR
VERSION:2.0
CALSCALE:GREGORIAN
PRODID:-//MyApp//Calendar 1.0//EN
BEGIN:VEVENT
METHOD:PUBLISH
UID:65514@regionalniportaly.cz
DTSTAMP:20260421T045736Z
DTSTART;VALUE=DATE:20260524
DTEND;VALUE=DATE:20260525
SUMMARY:GASTROFANS FESTIVAL SVÍČKOVÉ a jiných omáček 2026
DESCRIPTION:KRÁLOVNA OMÁČEK SE VRACÍ NA ŠPILBERK! 👑Po úspěšném pilotním ročníku přichází druhé pokračování oblíbeného gastronomického festivalu – tentokrát ve větším\, lepším a chutnějším stylu!2. ročník Festivalu svíčkové\, nově pod názvem Gastrofans Festival svíčkové a jiných omáček\, se uskuteční&nbsp\;v neděli 24. května 2026&nbsp\;od 11:00 do 20:00 na&nbsp\;Velkém nádvoří hradu Špilberk\, Brno.
LOCATION:Brno
END:VEVENT
END:VCALENDAR