BEGIN:VCALENDAR
VERSION:2.0
CALSCALE:GREGORIAN
PRODID:-//MyApp//Calendar 1.0//EN
BEGIN:VEVENT
METHOD:PUBLISH
UID:65544@regionalniportaly.cz
DTSTAMP:20260421T004713Z
DTSTART;VALUE=DATE:20260517
DTEND;VALUE=DATE:20260518
SUMMARY:Diversa dětem: Městská strašidla
DESCRIPTION:Ensemble Opera Diversa zve malé i velké diváky do světa\, kde opera ožívá hravě\, odvážně a s fantazií. Čeká vás trojice originálních představení\, která boří stereotypy a dokazují\, že operní příběhy mohou být stejně napínavé jako komiksové dobrodružství i něžné pohádky.Městská strašidla jsou cyklem tří minioper\, který je určený převážně dětským divákům. V&nbsp\;humoristicky laděných libretech Martina Kyšperského se setkáváme se strašidly\, která žijí v&nbsp\;dopravních prostředcích (Tramvajový upír)\, v&nbsp\;městské zeleni (Lebka v&nbsp\;parku)\, nebo v&nbsp\;nákupních centrech (Časožrout v&nbsp\;obchoďáku)\, ale my si jich až na děti vůbec nevšímáme. Právě ony se stávají hrdiny tajemných setkání s&nbsp\;bytostmi\, které někdy budí hrůzu\, jindy smích\, ale vždy přinutí člověka k&nbsp\;tomu\, aby se zamyslel nad světem\, ve kterém nežije sám. Kdo o existenci městských strašidel nepochybuje\, je ve výhodě – v&nbsp\;jejich společnosti se pobaví\, zažije malá dobrodružství a získá velmi cenné zkušenosti.Jednotlivé minioperyZdeněk Král\, Martin Kyšperský: Časožrout v obchoďákuOndřej Kyas\, Martin Kyšperský: Lebka v parkuMarek Doubrava\, Martin Kyšperský: Tramvajový upírRealizační tým:libreto Martin Kyšperskýhudba Marek Doubrava\, Zdeněk Král\,&nbsp\;Ondřej Kyasrežie Lukáš Kopeckýdramaturgie Hana Hložkováscéna a kostýmy Sylva Marková&nbsp\;Osoby a obsazení:Časožrout\, Lebka&nbsp\;Alžběta SymerskáHolka\, Tramvaj&nbsp\;Jana VondrůHlídač\, Kluk\, Pasažér Aleš JanigaKluk\, Řidič tramvaje&nbsp\;Pavel Slivka&nbsp\;Hrají:housle&nbsp\;Jan Bělohlávekviola&nbsp\;David Křivskývioloncello&nbsp\;Natálie Ardaševováakordeon Žaneta Vítová
LOCATION:Brno
END:VEVENT
END:VCALENDAR