BEGIN:VCALENDAR
VERSION:2.0
CALSCALE:GREGORIAN
PRODID:-//MyApp//Calendar 1.0//EN
BEGIN:VEVENT
METHOD:PUBLISH
UID:65550@regionalniportaly.cz
DTSTAMP:20260420T171820Z
DTSTART;VALUE=DATE:20260515
DTEND;VALUE=DATE:20260516
SUMMARY:Black Sabbath Revival Brno + R.J. Dio Tribute band CZ
DESCRIPTION:R.J. Dio Tribute Band CZZrod kapely se datuje až do 80. let\, působnost obnovila v roce 2010 s účastí velké rockové posily v osobě Jardy Bartoně (ex-Citron). Rify a melodiemi kapel Black Sabbath \,Rainbow a DIO těší&nbsp\;věrné fanoušky dodnes.&nbsp\;Black Sabbath Revival BrnoOddaní obdivovatelé tvorby Ozzyho Osborna a Black Sabbath vás na chvíli vrátí o pár desítek let zpět a zavzpomínají na Prince temnoty.
LOCATION:Brno
END:VEVENT
END:VCALENDAR