BEGIN:VCALENDAR
VERSION:2.0
CALSCALE:GREGORIAN
PRODID:-//MyApp//Calendar 1.0//EN
BEGIN:VEVENT
METHOD:PUBLISH
UID:65579@regionalniportaly.cz
DTSTAMP:20260420T204933Z
DTSTART;VALUE=DATE:20260515
DTEND;VALUE=DATE:20260516
SUMMARY:DJ MARKO BUNTU | Ecstatic Dance Brno
DESCRIPTION:Ecstatic Dance Brno | 15. 5. | Kulturní centrum Sýpka - Brno MedlánkyPřijď tančit. Bez masky. Bez soudu. Jen ty a hudba.Ecstatic Dance Brno\, květnová edice.&nbsp\;🎧&nbsp\;&nbsp\;TANEČNÍ DJ SETMarko BuntuMarko&nbsp\;není jen DJ\, ale především vizuální umělec\, který se vyjadřuje napříč různými médii. Dlouhá léta tvořil vizuály\, plakáty a prostorové dekorace pro nejrůznější akce a byl přirozenou součástí hudební scény\, která ho formovala a inspirovala. Přidání DJingu bylo logickým vyústěním jeho cesty. V době\, kdy se postupně vzdálil klubové scéně\, mu hudba začala chybět – ne jako výkon\, ale jako prožitek.Ecstatic Dance mu otevřel bezpečný a svobodný prostor\, kde se může autenticky vyjádřit a být plně přítomný\, bez alkoholu a jiných omamných látek. Prostor\, kde hraje hudbu\, kterou miluje a na kterou sám chce tančit. Hudbu\, skrze kterou sdílí to nejdůležitější: radost z pohybu\, ze spojení a z bytí spolu s otevřeným srdcem.Ve svých setech kombinuje širokou škálu žánrů – od hip-hopu\, přes dubstep a drum&amp\;bass\, až po house a techno. Jméno Buntu vystihuje jeho hravost\, živost a instinktivní spojení s přírodním rytmem. Miluje africké rytmy\, djembe a vše\, co duní až do morku kostí. Jeho melodie rozesmějí\, rozpláčou – a hlavně rozhýbou něco v nás ❤️‍🔥&nbsp\;SPECIÁL - KAKAOVÁ CEREMONIEPřed začátkem DJ setu nás čeká tentokrát speciální program!Kakaová ceremonie&nbsp\;je rituální praxe s kořeny v tradičních kulturách střední a jižní Ameriky. Zahrnuje pití pravého 100% kakaa\, které bylo zvlášť pěstované a opečovávané přímo k ceremoniálním účelům. Tato rostlinná medicína působí na fyzické\, emocionální i duchovní úrovni. Metaforicky i doslovně otevírá srdce\, pozvedává ducha\, pomáhá uvolňovat napětí v těle a umožňuje meditační i extatické spojení s sebou a kolektivní energií.Z chemického hlediska jde o superpotravinu s velkým množstvím antioxidantů\, minerálů a dalších zdraví prospěšných látek. Díky theobrominu\, který působí jemněji než kofein\, kakao harmonicky povzbuzuje. Obsahuje také látku anandamid\, která je nazývána „molekulou blaženosti“.Společnou ceremonií před začátkem setu nás provede Paulie\, spolutvůrce našeho projektu Ecstatic Dance Brno. Propojíme se v dechu\, vedené meditaci\, následně i hudbě s pohybem a oslavíme život!PS. Kakao NENÍ psychoaktivní látkou a je zcela legální. Jediné kontraindikace jsou pro osoby beroucí antidepresiva\, mající závažné onemocnění srdce\, extrémně vysoký krevní tlak či epilepsii.ZÁVĚREČNÉ ZPÍVÁNÍZveme vás na hudební jam! Společně s Markem a členy našeho týmu pro vás máme připravené po DJ setu hraní a zpívání\, do kterého se můžete také zapojit. Hudební nástroje vítány\, jak to zní není potřeba řešit\, hlavní je najít společný rytmus a cítit vzájemné propojení. Základní osnovu písní budeme držet my\, vy se můžete kdykoliv přidat. Společně tak zakončíme jarní sezónu našich akcí.&nbsp\;PROGRAM17:00 Otevření dveří18:00 Společné zahájení18:18&nbsp\;Kakaová ceremonie - Paulie (Pavel Petržela)19:19&nbsp\;DJ set – DJ Marko Buntu21:21&nbsp\;Závěrečný hudební jam22:00 Oficiální konec akce&nbsp\;✨&nbsp\;Co tě čeká?&nbsp\;Bezpečný prostor bez alkoholu\, drog a hodnocení.Žádná pravidla\, jak správně tančit.Jen pohyb\, hudba a tvoje tělo.Přijít můžeš s někým i klidně sám/sama&nbsp\;:)&nbsp\;🕺&nbsp\;ZÁSADY ECSTATIC DANCE👣 Tančíme bosky🤫 Na parketu nemluvíme📵 Telefony necháváme v kapse&nbsp\;🎟 VSTUPENKYI. vlna – 550 Kč (do 26.4.)II. vlna – 620 Kč (do 3.5.)III. vlna – 700 Kč (do 10.5.)IV. vlna – 750 Kč (do 15.4.)Pro studenty a ZTP máme zvýhodněné vstupné.&nbsp\;CO SI VZÍT?Hlavně pohodlné oblečení a teplejší&nbsp\;vrstvy na konec večera až přestaneme tančit.Pokud chceš\, tak i láhev na vodu\, jógamatku či deku na relaxaci.&nbsp\;JAK DOJET?MHDŠalina: Z&nbsp\;hlavního nádraží ti jede 1&nbsp\;přímo&nbsp\;do Řečkovic (pak 12 min pěšky)Bus: Nasedneš u Technologického parku na bus 65 a vystoupíš na zastávce V Újezdech - a za 1minutu&nbsp\;jsi v budově SýpkyAdresa:&nbsp\;Společenské centrum Sýpka\, Kytnerova 1a\, 621 00 Brno-Medlánky&nbsp\;KONTAKT&nbsp\;ecstaticdancebrno@gmail.com&nbsp\;Těšíme se na tebe!Tým Ecstatic Dance Brno
LOCATION:Brno
END:VEVENT
END:VCALENDAR