BEGIN:VCALENDAR
VERSION:2.0
CALSCALE:GREGORIAN
PRODID:-//MyApp//Calendar 1.0//EN
BEGIN:VEVENT
METHOD:PUBLISH
UID:65580@regionalniportaly.cz
DTSTAMP:20260420T120334Z
DTSTART;VALUE=DATE:20260430
DTEND;VALUE=DATE:20260501
SUMMARY:Kyrgyzstán - země nebeských hor
DESCRIPTION:Kyrgyzstán – výprava\, která neskončila jen ve skupinovém chatu na Messengeru ani přes nutnost omluvenky do školy\, byla docela srandy kopec (čtěte: hodně srandy a hodně kopců). Chvíli jsme se toulali mezi čtyřtisícovkami v NP Ala-archa\, pak jsme se na koních vydali k jezeru Son-Kul a nakonec směřovali na východ k městu Karakol\, kde na nás čekaly další štíty\, jurty\, horké prameny a jablka (prý abychom přijeli i příští rok). Cesta zpátky do Biškeku byla čistou improvizací\, kterou jsme to dotáhli až na nástěnku místní základní školy.&nbsp\;&nbsp\;
LOCATION:Brno
END:VEVENT
END:VCALENDAR