BEGIN:VCALENDAR
VERSION:2.0
CALSCALE:GREGORIAN
PRODID:-//MyApp//Calendar 1.0//EN
BEGIN:VEVENT
METHOD:PUBLISH
UID:65584@regionalniportaly.cz
DTSTAMP:20260420T231935Z
DTSTART;VALUE=DATE:20260505
DTEND;VALUE=DATE:20260506
SUMMARY:Večer divadelní improvizace (Melíšková\, Strahovský a DJP)
DESCRIPTION:Co se stane\, když se na jednom jevišti potkají herci na vozíku a herci „choďáci“\, aniž by měli v ruce jediný řádek scénáře?Představení sází na absolutní bezprostřednost a princip „teď a tady“. Diváci se stanou svědky vzniku příběhů\, které nebyly nikdy předem napsány ani nazkoušeny. Jediným pravidlem je vzájemné naslouchání\, propojení a schopnost nechat se překvapit tím\, kam společná fantazie aktéry zavede.„Naším cílem je ukázat\, že improvizace a radost z tvorby neznají fyzická omezení. Na jevišti se rozdíly stírají – všichni jsou v daný moment tvůrci společného světa.”Hrají a improvizují:&nbsp\;Studio Melíšková_Strahovský (Klára Melíšková\, herečka Dejvického divadla\, filmová herečka a šestinásobná držitelka Českého lva + Jaromír Strahovský\,&nbsp\;speciální&nbsp\;andragog\, sociální pracovník\, lektor a improvizátor)Divadlo Járy Pokojského (integrovaný divadelní soubor působící v Divadle BARKA)&nbsp\;a hosté&nbsp\;&nbsp\;"Před třemi lety jsme společně s&nbsp\;Klárou Melíškovou v Brně iniciovali vznik skupiny lidí na vozíku a chodících\, se kterou rozvíjíme\, stejně tak jako na našich workshopech\, princip objevování přirozenosti v jednání spojený s hravostí fantazijního světa Improvizace. Po tuto dobu spolupracujeme s brněnským Divadlem BARKA\, kterého jsme již po několikáté hosté\, a vy tak můžete opět zažít jedinečný večer improvizace vozíčkářů i chodících herců."Jaromír Strahovský&nbsp\;www.studioms.cz&nbsp\;&nbsp\;
LOCATION:Brno
END:VEVENT
END:VCALENDAR