BEGIN:VCALENDAR
VERSION:2.0
CALSCALE:GREGORIAN
PRODID:-//MyApp//Calendar 1.0//EN
BEGIN:VEVENT
METHOD:PUBLISH
UID:65626@regionalniportaly.cz
DTSTAMP:20260420T205449Z
DTSTART;VALUE=DATE:20260506
DTEND;VALUE=DATE:20260507
SUMMARY:People in Orbit (SE) // Ponava
DESCRIPTION:🎷🎼&nbsp\; People In Orbit je švédská jazzová kapela Adama Sasse. Elektronika se mísí s akustikou\, chaos s klidem a improvizace s aranžemi. Ze všech těchto zvukových krajin vznikají velkolepé\, svěží a nápaditost vyzařující zvuky\, které jasně vykreslují atmosféru různých prostředí\, postav i našeho vlastního podivného světa 🎷🎼.&nbsp\;Live from Iceland:https://youtu.be/79sSyeQBp1QNew unreleased album:&nbsp\;https://samply.app/p/UQJ2HK7b4RYBr9xUnvPl?si=nouHh8UG7ZYDCXkf1Dv2tkSK0Ye2Vstupné 200\,- v předprodeji\, 250\,- na místě\, zážitky k nezaplacení 🔥 🔥 🔥
LOCATION:Brno
END:VEVENT
END:VCALENDAR