BEGIN:VCALENDAR
VERSION:2.0
CALSCALE:GREGORIAN
PRODID:-//MyApp//Calendar 1.0//EN
BEGIN:VEVENT
METHOD:PUBLISH
UID:65628@regionalniportaly.cz
DTSTAMP:20260421T023820Z
DTSTART;VALUE=DATE:20260527
DTEND;VALUE=DATE:20260528
SUMMARY:Tatsuya Yoshida & Risa Takeda (JP) // Ponava
DESCRIPTION:Aktuálně nejpozoruhodnější tokijské improvizační duo. Duo\, které tvoří Tatsuya Yoshida\, progresivní bubeník na avant-prog scéně a Risa Takeda\, klávesistka\, která v současnosti přitahuje největší pozornost na tokijské improvizační scéně\, se podruhé vydávají na turné po Evropě. Nevídaný pohled na svět\, který přináší vzrušující antagonismus a harmonie rozvíjející se ve vysoké rychlosti. Vysoce strukturované a silně improvizované představení\, které se volně pohybuje mezi klasikou\, soudobou hudbou\, progresivním rockem a jazzrockem\, ohromuje publikum počtem a zvukovým tlakem kapely\, přestože ho hrají dva lidé.https://www.youtube.com/watch?v=kVfi_jTAnNEhttps://www.youtube.com/watch?v=Cp14rfNYVRo&amp\;t=112shttps://www.youtube.com/watch?v=_HznqoAVRuc&amp\;t=872shttps://www.youtube.com/watch?v=2z6aApjBA_I&amp\;t=4sVstupné 200\,- v předprodeji\, 250\,- na místě\, zážitky k nezaplacení 🔥 🔥 🔥
LOCATION:Brno
END:VEVENT
END:VCALENDAR