BEGIN:VCALENDAR
VERSION:2.0
CALSCALE:GREGORIAN
PRODID:-//MyApp//Calendar 1.0//EN
BEGIN:VEVENT
METHOD:PUBLISH
UID:65646@regionalniportaly.cz
DTSTAMP:20260421T024014Z
DTSTART;VALUE=DATE:20260528
DTEND;VALUE=DATE:20260529
SUMMARY:Sólocestování - večer pro singles (30–40 let)
DESCRIPTION:Hledala jsem způsob\, jak osobně potkat single lidi\, které baví cestování a ráda bych takový prostor vytvořila v rámci tohoto večera.V úvodu se podělím o své zkušenosti se sólocestováním a hledáním parťáků a přihodím pár cestovatelských tipů. Druhá část by se věnovala diskuzi a společnému sdílení zážitků i cestovatelských plánů.Poznejte osobně nové lidi s vášní pro cestování.&nbsp\;Přednáší: Barbora Páclová&nbsp\;
LOCATION:Brno
END:VEVENT
END:VCALENDAR