BEGIN:VCALENDAR
VERSION:2.0
CALSCALE:GREGORIAN
PRODID:-//MyApp//Calendar 1.0//EN
BEGIN:VEVENT
METHOD:PUBLISH
UID:65651@regionalniportaly.cz
DTSTAMP:20260420T205102Z
DTSTART;VALUE=DATE:20260508
DTEND;VALUE=DATE:20260509
SUMMARY:Černý čaj // Ponava
DESCRIPTION:Alternativní kapela písničkáře Martina Susedíka pluje na vlnách ambientního rozjímání až k rockovému hřmění. S každou deskou (Z města ven\, Čára\, Šeptej) roste a hutní její zvuk\, který naplno rozkvétá na energických koncertech. Martin se v textech zabývá tématy osobními\, přírodními i filozofickými. Z niterného šepotu až po bojový pokřik a zase zpátky. Černý Čaj jako silný a aromatický výluh nevšedních dnů\, po kterém se nechce jít spát.Martin Susedík: kytary\, zpěvAndrea Tomečků: syntetizátory\, trubka\, saxofonJakub Kočička: bicíhttps://www.instagram.com/cerny.caj?igsh=MW9wcW1yZHcwN2E3aw==https://open.spotify.com/artist/6gtNXaChaWFlKxuDxab65r...https://www.facebook.com/cernycaiVstupné 150\,- v předprodeji\, 200\,- na místě\, zážitky k nezaplacení&nbsp\;&nbsp\;&nbsp\;
LOCATION:Brno
END:VEVENT
END:VCALENDAR