BEGIN:VCALENDAR
VERSION:2.0
CALSCALE:GREGORIAN
PRODID:-//MyApp//Calendar 1.0//EN
BEGIN:VEVENT
METHOD:PUBLISH
UID:65658@regionalniportaly.cz
DTSTAMP:20260420T063423Z
DTSTART;VALUE=DATE:20261217
DTEND;VALUE=DATE:20261218
SUMMARY:Petr Tomeček / Vánoce 2026 v Blansku
DESCRIPTION:Dovolujeme si Vás srdečně pozvat na výjimečný hudební večer\, který rozzáří předvánoční čas slavnostní atmosférou\, emocemi a nezapomenutelným uměleckým zážitkem.Dne&nbsp\;17. prosince 2026 od 19:00 hodin&nbsp\;se v hudebním&nbsp\;salónku&nbsp\;zámku&nbsp\;v Blansku&nbsp\;rozezní tóny adventu v celé své kráse. Historické prostory zámku v srdci Blanska&nbsp\;se stanou dějištěm slavnostního koncertu\, který propojí noblesu klasiky s romantickou originalitou.Hlavním interpretem&nbsp\;večera bude&nbsp\;Petr Tomeček\, jenž představí melodie sváteční i vánoční v netradičním a podmanivém podání Panovy flétny. Zazní její křišťálově čistý a hluboce emotivní zvuk a vytvoří jedinečnou hudební symfonii plnou světla\, něhy i vznešenosti.„Vánoce&nbsp\;2026 v Blansku“ nejsou&nbsp\;jen koncertem – jsou&nbsp\;slavnostním setkáním\, které otevírá srdce\, probouzí vzpomínky a přináší radost i klid do předvánočních dnů.✨ Přijďte prožít večer plný emocí\, elegance a hudby\, která zahřeje duši.Těšíme se na společné setkání v atmosféře svátečního kouzla. ✨&nbsp\;Petr Tomeček&nbsp\;(Panova flétna) patří k výrazným osobnostem české hudební scény a k výjimečným interpretům hry na Panovu flétnu. Jeho hudební projev se vyznačuje mimořádnou jemností\, kultivovaností a hlubokou emotivní silou\, s níž dokáže oslovit posluchače napříč generacemi.Zvuk Panovy flétny v jeho podání získává neobyčejnou barevnost a zpěvnost – od tichých\, meditativních poloh až po vášnivé a strhující melodie. Petr Tomeček mistrně spojuje technickou bravuru s přirozenou muzikálností a smyslem pro detail\, díky čemuž se každý jeho koncert stává jedinečným uměleckým zážitkem.Jeho interpretace se vyznačuje schopností vyprávět příběhy beze slov\, probouzet emoce a vytvářet hluboké spojení mezi hudbou a posluchačem. Právě tato citlivost a autenticita činí z Petra Tomečka umělce\, jehož hudba má sílu dotýkat se srdcí a zůstávat v paměti dlouho po doznění posledního tónu.
LOCATION:Blansko
END:VEVENT
END:VCALENDAR