BEGIN:VCALENDAR
VERSION:2.0
CALSCALE:GREGORIAN
PRODID:-//MyApp//Calendar 1.0//EN
BEGIN:VEVENT
METHOD:PUBLISH
UID:65660@regionalniportaly.cz
DTSTAMP:20260420T191147Z
DTSTART;VALUE=DATE:20260513
DTEND;VALUE=DATE:20260514
SUMMARY:CM Širúch // Ponava
DESCRIPTION:Cimbálová muzika začala neformálně vznikat v roce 2017 jako doprovodná muzika dívčí taneční složky Motovidlo pod vedením Vojtěcha Půčka. Primární interpretační zaměření kapely vychází z jejich kořenů v oblasti Kyjovského Dolňácka\, ale nebrání se taktéž zpracování ostatních regionů i populárních melodií.https://www.youtube.com/shorts/2iGZ-PIlMj8https://www.youtube.com/@cimbalovamuzikasiruch51https://www.facebook.com/cmsiruchhttps://cmsiruch.cz/csVstupné 100\,- v předprodeji studenti a pakliže máte hluboko do kapsy\, 150\,- základní vstupenka\, 200\,- na místě\, zážitky k nezaplacení 🔥 🔥 🔥
LOCATION:Brno
END:VEVENT
END:VCALENDAR