BEGIN:VCALENDAR
VERSION:2.0
CALSCALE:GREGORIAN
PRODID:-//MyApp//Calendar 1.0//EN
BEGIN:VEVENT
METHOD:PUBLISH
UID:65666@regionalniportaly.cz
DTSTAMP:20260421T042923Z
DTSTART;VALUE=DATE:20260529
DTEND;VALUE=DATE:20260530
SUMMARY:Plum Dumplings & Lais Kilski / dvojkoncert // Ponava
DESCRIPTION:Skupina Plum Dumplings\, která se už téměř dvě dekády pohybuje na brněnské hudební scéně\, přichází s novým albem Bezpečí.. Třetí studiová deska kapely je nejen hudebním dobrodružstvím\, ale i filozofickou reflexí na základní lidskou potřebu – bezpečí\, které se v průběhu desky ocitá na hraně ztráty a zranitelnosti. Lais Kilski je české hudební duo\, které se na alternativní scéně objevilo v roce 2025. Kapelavznikla jako společný projekt hudebníků z Hořic a Prahy a rychle si získala pozornost díkysvému specifickému\, žánrově těžko zařaditelnému zvuku.Vstupné 200\,- v předprodeji\, 250\,- na místě\, zážitky k nezaplacení 🔥 🔥 🔥Plum Dumplings:FB: https://www.facebook.com/plumdumplingsIG: https://www.instagram.com/plumdumplingsband/?hl=csweb: https://www.plumdumplings.cz/Youtube:&nbsp\;Singl Destrukce: https://www.youtube.com/watch?v=3VggBxi2zKMSingl Rybí špína: https://www.youtube.com/watch?v=9Pq2OZ8VvYMSoundCzech: https://www.youtube.com/watch?v=nKNjqyS9t4MObsazení kapely: Adéla Polka\, Michal Cífka\, Tomáš Neoral\, Tomáš VykydalLais Kilski:IG: https://www.instagram.com/laiskilski/FB: https://www.facebook.com/profile.php?id=61578748927126BC: https://laiskilski.bandcamp.com/album/lais-kilskiSpotify: https://open.spotify.com/artist/1CWgSHqVP46FMZo5slVGFr?si=weZEsf-fT-CF5OQ89HI4lA
LOCATION:Brno
END:VEVENT
END:VCALENDAR