BEGIN:VCALENDAR
VERSION:2.0
CALSCALE:GREGORIAN
PRODID:-//MyApp//Calendar 1.0//EN
BEGIN:VEVENT
METHOD:PUBLISH
UID:65682@regionalniportaly.cz
DTSTAMP:20260421T065057Z
DTSTART;VALUE=DATE:20260929
DTEND;VALUE=DATE:20260930
SUMMARY:LEŽ
DESCRIPTION:Skvělá konverzační komedie bravurně balancující na&nbsp\;tenké hranici milosrdné pravdy a&nbsp\;nemilosrdné lži. Dva manželské páry a&nbsp\;spousta lží ve&nbsp\;jménu pravdy.&nbsp\;&nbsp\;Hrají: Ivana Chýlková\, Ady Hajdu\, Jana Stryková a&nbsp\;Martin Pechlát&nbsp\;
LOCATION:Rájec-Jestřebí
END:VEVENT
END:VCALENDAR