BEGIN:VCALENDAR
VERSION:2.0
CALSCALE:GREGORIAN
PRODID:-//MyApp//Calendar 1.0//EN
BEGIN:VEVENT
METHOD:PUBLISH
UID:65875@regionalniportaly.cz
DTSTAMP:20260424T155732Z
DTSTART;VALUE=DATE:20260529
DTEND;VALUE=DATE:20260530
SUMMARY:Hudební večer s Pedrem na Štrůdlkafe v Blansku
DESCRIPTION:Srdečně vás zveme na hudební večer s Pedrem Hurdesem na restauraci a kavárně Štrůdlkafe v Blansku. Začátek akce v 19.00 hod. O kvalitní občerstvení a hudbu bude jako vždy dobře postaráno :-)
LOCATION:Blansko
END:VEVENT
END:VCALENDAR